BEGIN:VCALENDAR
VERSION:2.0
PRODID:-//IABSE British Group - ECPv6.15.20//NONSGML v1.0//EN
CALSCALE:GREGORIAN
METHOD:PUBLISH
X-WR-CALNAME:IABSE British Group
X-ORIGINAL-URL:https://iabse.org.uk
X-WR-CALDESC:Events for IABSE British Group
REFRESH-INTERVAL;VALUE=DURATION:PT1H
X-Robots-Tag:noindex
X-PUBLISHED-TTL:PT1H
BEGIN:VTIMEZONE
TZID:Europe/London
BEGIN:DAYLIGHT
TZOFFSETFROM:+0000
TZOFFSETTO:+0100
TZNAME:BST
DTSTART:20200329T010000
END:DAYLIGHT
BEGIN:STANDARD
TZOFFSETFROM:+0100
TZOFFSETTO:+0000
TZNAME:GMT
DTSTART:20201025T010000
END:STANDARD
BEGIN:DAYLIGHT
TZOFFSETFROM:+0000
TZOFFSETTO:+0100
TZNAME:BST
DTSTART:20210328T010000
END:DAYLIGHT
BEGIN:STANDARD
TZOFFSETFROM:+0100
TZOFFSETTO:+0000
TZNAME:GMT
DTSTART:20211031T010000
END:STANDARD
BEGIN:DAYLIGHT
TZOFFSETFROM:+0000
TZOFFSETTO:+0100
TZNAME:BST
DTSTART:20220327T010000
END:DAYLIGHT
BEGIN:STANDARD
TZOFFSETFROM:+0100
TZOFFSETTO:+0000
TZNAME:GMT
DTSTART:20221030T010000
END:STANDARD
END:VTIMEZONE
BEGIN:VEVENT
DTSTART;TZID=Europe/London:20210527T163000
DTEND;TZID=Europe/London:20210527T173000
DTSTAMP:20260421T095240
CREATED:20210503T151146Z
LAST-MODIFIED:20221031T093004Z
UID:6211-1622133000-1622136600@iabse.org.uk
SUMMARY:IABSE British Group Annual General Meeting
DESCRIPTION:The 2021 Annual General Meeting of the IABSE British Group will be held at 4:30pm on 27th May. \n \n 
URL:https://iabse.org.uk/event/iabse-british-group-annual-general-meeting/
LOCATION:Online
END:VEVENT
END:VCALENDAR